{"text_format":"1","workbook":"xlsx","n_sheets":2,"sheets":["bezier","shadow"],"not_rendered":{"charts":2,"images":0,"macros":1,"external_links":0,"defined_names":15,"comments":0,"pivot_tables":0},"unopened":[],"bounds":{"document_bytes":16777216,"sheet_cells":100000,"rows_first":2000,"rows_last":500,"rows_between":2000,"halvings":0,"cell_chars":16384,"cell_head_chars":4096},"cells_cut":0,"cells_raw":0,"read":"whole","date_system":"1900"}

{"sheet":"bezier","index":0,"n_rows":31,"n_cols":18,"rows_kept":31,"cut":false,"hidden":false,"merged":[]}
["Control points",null,null,null,"Point","Ratio","ABx","ABy","BCx","BCy","CDx","CDy","ABCx","ABCy","BCDx","BCDy","ABCDx","ABCDy"]
[null,"x","y",null,0,{"$f":"E2/(BezierSteps-1)","v":0},{"$f":"Ax*(1-F2)+Bx*F2","v":0},{"$f":"Ay*(1-F2)+By*F2","v":0},{"$f":"Bx*(1-F2)+Cx*F2","v":0.05},{"$f":"By*(1-F2)+Cy*F2","v":0.6},{"$f":"Cx*(1-F2)+Dx*F2","v":0.9},{"$f":"Cy*(1-F2)+Dy*F2","v":0.4},{"$f":"G2*(1-F2)+I2*F2","v":0},{"$f":"H2*(1-F2)+J2*F2","v":0},{"$f":"I2*(1-F2)+K2*F2","v":0.05},{"$f":"J2*(1-F2)+L2*F2","v":0.6},{"$f":"M2*(1-F2)+O2*F2","v":0},{"$f":"N2*(1-F2)+P2*F2","v":0}]
["A",0,0,null,1,3.4482758620689655E-2,1.7241379310344827E-3,2.0689655172413793E-2,7.9310344827586213E-2,0.59310344827586214,0.90344827586206899,0.42068965517241386,{"$f":"G3*(1-F3)+I3*F3","v":4.3995243757431633E-3},{"$f":"H3*(1-F3)+J3*F3","v":4.042806183115339E-2},{"$f":"I3*(1-F3)+K3*F3","v":0.10772889417360286},{"$f":"J3*(1-F3)+L3*F3","v":0.58715814506539854},{"$f":"M3*(1-F3)+O3*F3","v":7.9626060929107387E-3},{"$f":"N3*(1-F3)+P3*F3","v":5.9280823321989431E-2}]
["B",0.6,0.05,null,2,6.8965517241379309E-2,3.4482758620689655E-3,4.1379310344827586E-2,0.10862068965517241,0.5862068965517242,0.90689655172413797,0.44137931034482758,1.070154577883472E-2,7.895362663495839E-2,0.16367419738406658,0.57621878715814512,2.125138382057485E-2,0.11324777563655747]
["C",0.4,0.9,null,3,0.10344827586206896,5.1724137931034482E-3,6.2068965517241378E-2,0.13793103448275862,0.57931034482758614,0.91034482758620694,0.46206896551724141,1.8906064209274674E-2,0.11557669441141498,0.21783590963139121,0.56718192627824016,3.9485013735700528E-2,0.16229447701832794]
["D",1,1,null,4,0.13793103448275862,6.8965517241379309E-3,8.2758620689655171E-2,0.16724137931034483,0.5724137931034482,0.9137931034482758,0.48275862068965519,2.901307966706302E-2,0.15029726516052316,0.27021403091557666,0.56004756242568354,6.2282176390995939E-2,0.20681454754192458]
[null,null,null,null,5,0.17241379310344829,8.6206896551724154E-3,0.10344827586206896,0.19655172413793104,0.56551724137931036,0.91724137931034488,0.50344827586206897,4.1022592152199763E-2,0.18311533888228299,0.3208085612366231,0.55481569560047561,8.9261552339169312E-2,0.24720160728197138]
["Steps",30,null,null,6,0.20689655172413793,1.0344827586206896E-2,0.12413793103448276,0.22586206896551725,0.55862068965517242,0.92068965517241386,0.52413793103448281,5.4934601664684904E-2,0.2140309155766944,0.36961950059453036,0.55148632580261592,0.1200418221329288,0.28384927631309198]
[null,null,null,null,7,0.2413793103448276,1.2068965517241381E-2,0.14482758620689656,0.25517241379310346,0.55172413793103448,0.92413793103448283,0.54482758620689653,7.0749108204518435E-2,0.24304399524375744,0.41664684898929849,0.55005945303210457,0.1542416663249826,0.31715117470991017]
[null,null,null,null,8,0.27586206896551724,1.3793103448275862E-2,0.16551724137931034,0.28448275862068967,0.54482758620689653,0.92758620689655169,0.56551724137931036,8.8466111771700356E-2,0.27015457788347208,0.4618906064209275,0.55053507728894169,0.19147976546803888,0.3475009225470499]
[null,null,null,null,9,0.31034482758620691,1.5517241379310346E-2,0.18620689655172415,0.31379310344827588,0.53793103448275859,0.93103448275862077,0.5862068965517242,0.1080856123662307,0.29536266349583828,0.50535077288941743,0.55291319857312726,0.23137480011480588,0.3752921398991349]
[null,null,null,null,10,0.34482758620689657,1.7241379310344831E-2,0.20689655172413793,0.34310344827586209,0.53103448275862064,0.93448275862068964,0.60689655172413803,0.12960760998810941,0.31866825208085614,0.54702734839476819,0.55719381688466108,0.27354545081799175,0.40091844684078887]
[null,null,null,null,11,0.37931034482758619,1.896551724137931E-2,0.22758620689655171,0.3724137931034483,0.52413793103448281,0.93793103448275861,0.62758620689655176,0.15303210463733652,0.34007134363852554,0.58692033293697976,0.56337693222354346,0.31761039813030467,0.4247734634466358]
[null,null,null,null,12,0.41379310344827586,2.0689655172413793E-2,0.24827586206896551,0.40172413793103451,0.51724137931034486,0.94137931034482758,0.64827586206896548,0.17835909631391203,0.35957193816884664,0.62502972651605238,0.57146254458977408,0.36318832260445288,0.44725080979129939]
[null,null,null,null,13,0.44827586206896552,2.2413793103448279E-2,0.26896551724137929,0.43103448275862072,0.51034482758620692,0.94482758620689655,0.66896551724137931,0.20558858501783595,0.37717003567181928,0.6613555291319857,0.58145065398335316,0.40989790479314447,0.46874410594940341]
[null,null,null,null,14,0.48275862068965519,2.4137931034482762E-2,0.28965517241379313,0.46034482758620693,0.50344827586206897,0.94827586206896552,0.68965517241379315,0.23472057074910824,0.39286563614744352,0.69589774078477995,0.5933412604042807,0.45735782524908769,0.48964697199557183]
[null,null,null,null,15,0.51724137931034486,2.5862068965517244E-2,0.31034482758620691,0.48965517241379314,0.49655172413793103,0.9517241379310345,0.71034482758620698,0.26575505350772893,0.40665873959571941,0.72865636147443524,0.60713436385255659,0.50518676452499078,0.51035302800442839]
[null,null,null,null,16,0.55172413793103448,2.7586206896551724E-2,0.33103448275862069,0.51896551724137929,0.48965517241379308,0.95517241379310347,0.73103448275862071,0.29869203329369792,0.41854934601664684,0.75963139120095124,0.62282996432818072,0.55300340317356178,0.53125589405059659]
[null,null,null,null,17,0.58620689655172409,2.9310344827586206E-2,0.35172413793103446,0.5482758620689655,0.48275862068965519,0.95862068965517244,0.75172413793103443,0.33353151010701543,0.42853745541022592,0.78882282996432818,0.64042806183115331,0.60042642174750904,0.55274919020870061]
[null,null,null,null,18,0.62068965517241381,3.1034482758620693E-2,0.3724137931034483,0.57758620689655171,0.47586206896551725,0.96206896551724141,0.77241379310344827,0.37027348394768134,0.4366230677764566,0.81623067776456604,0.65992865636147446,0.64707450079954076,0.5752265365533642]
[null,null,null,null,19,0.65517241379310343,3.2758620689655175E-2,0.39310344827586202,0.60689655172413792,0.46896551724137936,0.96551724137931028,0.7931034482758621,0.40891795481569559,0.44280618311533892,0.84185493460166472,0.68133174791914386,0.69256632088236503,0.59908155315921108]
[null,null,null,null,20,0.68965517241379315,3.4482758620689662E-2,0.41379310344827586,0.63620689655172413,0.46206896551724141,0.96896551724137936,0.81379310344827593,0.44946492271105826,0.44708680142687285,0.86569560047562433,0.70463733650416183,0.73652056254869014,0.62470786010086521]
[null,null,null,null,21,0.72413793103448276,3.6206896551724141E-2,0.43448275862068964,0.66551724137931034,0.45517241379310347,0.97241379310344822,0.83448275862068966,0.49191438763376932,0.44946492271105826,0.88775267538644465,0.72984542211652792,0.77855590635122385,0.6524990774529501]
[null,null,null,null,22,0.75862068965517238,3.793103448275862E-2,0.45517241379310341,0.69482758620689655,0.44827586206896552,0.9758620689655173,0.85517241379310338,0.53626634958382868,0.44994054696789532,0.90802615933412612,0.75695600475624247,0.81829103284267501,0.68284882529008972]
[null,null,null,null,23,0.7931034482758621,3.9655172413793106E-2,0.47586206896551725,0.72413793103448287,0.44137931034482758,0.97931034482758617,0.87586206896551722,0.58252080856123667,0.44851367419738408,0.92651605231866829,0.7859690844233056,0.8553446225757515,0.71615072368690813]
[null,null,null,null,24,0.82758620689655171,4.1379310344827586E-2,0.49655172413793103,0.75344827586206897,0.43448275862068964,0.98275862068965514,0.89655172413793105,0.63067776456599289,0.44518430439952433,0.94322235434007129,0.81688466111771696,0.88933535610316128,0.75279839271802851]
[null,null,null,null,25,0.86206896551724133,4.3103448275862072E-2,0.51724137931034475,0.78275862068965518,0.4275862068965518,0.98620689655172411,0.91724137931034477,0.68073721759809747,0.43995243757431635,0.95814506539833522,0.84970273483947678,0.91988191397761276,0.79318545245807526]
[null,null,null,null,26,0.89655172413793105,4.4827586206896558E-2,0.53793103448275859,0.81206896551724139,0.42068965517241386,0.98965517241379308,0.93793103448275861,0.73269916765755061,0.43281807372175984,0.97128418549346018,0.88442330558858506,0.94660297675181437,0.83770552298167211]
[null,null,null,null,27,0.93103448275862066,4.6551724137931037E-2,0.55862068965517242,0.8413793103448276,0.41379310344827591,0.99310344827586206,0.95862068965517244,0.78656361474435199,0.42378121284185499,0.98263971462544586,0.92104637336504158,0.96911722497847386,0.88675222436344248]
[null,null,null,null,28,0.96551724137931039,4.8275862068965524E-2,0.57931034482758625,0.87068965517241381,0.40689655172413797,0.99655172413793103,0.97931034482758628,0.84233055885850183,0.41284185493460168,0.99221165279429246,0.95957193816884678,0.98704333921029974,0.94071917667801086]
[null,null,null,null,29,1,0.05,0.6,0.9,0.4,1,1,0.9,0.4,1,1,1,1]

{"sheet":"shadow","index":1,"n_rows":31,"n_cols":17,"rows_kept":31,"cut":false,"hidden":false,"merged":[]}
[null,"Red","Green","Blue","Actual color",null,"Point","Ratio","Bezier","Red","Green","Blue","Actual color","Rx","Gx","Bx","CSS"]
["Shadow",191,184,144,".",null,{"$f":"bezier!E2","v":0},{"$f":"bezier!F2","v":0},{"$f":"bezier!Q2","v":0},{"$f":"MIN(ROUND(ShadowRed*(1+(RatioRed-1)*I2),0),255)","v":191},{"$f":"MIN(ROUND(ShadowGreen*(1+(RatioGreen-1)*I2),0),255)","v":184},{"$f":"MIN(ROUND(ShadowBlue*(1+(RatioBlue-1)*I2),0),255)","v":144},".",{"$f":"LOWER(DEC2HEX(J2,2))","v":"bf"},{"$f":"LOWER(DEC2HEX(K2,2))","v":"b8"},"90"]
["Background",255,255,192,".",null,{"$f":"bezier!E3","v":1},{"$f":"bezier!F3","v":3.4482758620689655E-2},{"$f":"bezier!Q3","v":7.9626060929107387E-3},{"$f":"MIN(ROUND(ShadowRed*(1+(RatioRed-1)*I3),0),255)","v":192},{"$f":"MIN(ROUND(ShadowGreen*(1+(RatioGreen-1)*I3),0),255)","v":185},{"$f":"MIN(ROUND(ShadowBlue*(1+(RatioBlue-1)*I3),0),255)","v":144},".",{"$f":"LOWER(DEC2HEX(J3,2))","v":"c0"},{"$f":"LOWER(DEC2HEX(K3,2))","v":"b9"},{"$f":"LOWER(DEC2HEX(L3,2))","v":"90"},{"$f":"CONCATENATE(G3,\"px \",G3,\"px 1px #\",N3,O3,P3,IF(M4=\"\",\";\",\",\"))","v":"1px 1px 1px #c0b990,"}]
["Ratio",{"$f":"B3/B2","v":1.3350785340314135},{"$f":"C3/C2","v":1.3858695652173914},{"$f":"D3/D2","v":1.3333333333333333},null,null,{"$f":"bezier!E4","v":2},{"$f":"bezier!F4","v":6.8965517241379309E-2},{"$f":"bezier!Q4","v":2.125138382057485E-2},{"$f":"MIN(ROUND(ShadowRed*(1+(RatioRed-1)*I4),0),255)","v":192},{"$f":"MIN(ROUND(ShadowGreen*(1+(RatioGreen-1)*I4),0),255)","v":186},{"$f":"MIN(ROUND(ShadowBlue*(1+(RatioBlue-1)*I4),0),255)","v":145},".","c0","ba","91","2px 2px 1px #c0ba91,"]
[null,null,null,null,null,null,{"$f":"bezier!E5","v":3},{"$f":"bezier!F5","v":0.10344827586206896},{"$f":"bezier!Q5","v":3.9485013735700528E-2},{"$f":"MIN(ROUND(ShadowRed*(1+(RatioRed-1)*I5),0),255)","v":194},{"$f":"MIN(ROUND(ShadowGreen*(1+(RatioGreen-1)*I5),0),255)","v":187},{"$f":"MIN(ROUND(ShadowBlue*(1+(RatioBlue-1)*I5),0),255)","v":146},".","c2","bb","92","3px 3px 1px #c2bb92,"]
[null,null,null,null,null,null,{"$f":"bezier!E6","v":4},{"$f":"bezier!F6","v":0.13793103448275862},{"$f":"bezier!Q6","v":6.2282176390995939E-2},{"$f":"MIN(ROUND(ShadowRed*(1+(RatioRed-1)*I6),0),255)","v":195},{"$f":"MIN(ROUND(ShadowGreen*(1+(RatioGreen-1)*I6),0),255)","v":188},{"$f":"MIN(ROUND(ShadowBlue*(1+(RatioBlue-1)*I6),0),255)","v":147},".","c3","bc","93","4px 4px 1px #c3bc93,"]
[null,null,null,null,null,null,{"$f":"bezier!E7","v":5},{"$f":"bezier!F7","v":0.17241379310344829},{"$f":"bezier!Q7","v":8.9261552339169312E-2},{"$f":"MIN(ROUND(ShadowRed*(1+(RatioRed-1)*I7),0),255)","v":197},{"$f":"MIN(ROUND(ShadowGreen*(1+(RatioGreen-1)*I7),0),255)","v":190},{"$f":"MIN(ROUND(ShadowBlue*(1+(RatioBlue-1)*I7),0),255)","v":148},".","c5","be","94","5px 5px 1px #c5be94,"]
[null,null,null,null,null,null,{"$f":"bezier!E8","v":6},{"$f":"bezier!F8","v":0.20689655172413793},{"$f":"bezier!Q8","v":0.1200418221329288},{"$f":"MIN(ROUND(ShadowRed*(1+(RatioRed-1)*I8),0),255)","v":199},{"$f":"MIN(ROUND(ShadowGreen*(1+(RatioGreen-1)*I8),0),255)","v":193},{"$f":"MIN(ROUND(ShadowBlue*(1+(RatioBlue-1)*I8),0),255)","v":150},".","c7","c1","96","6px 6px 1px #c7c196,"]
[null,null,null,null,null,null,{"$f":"bezier!E9","v":7},{"$f":"bezier!F9","v":0.2413793103448276},{"$f":"bezier!Q9","v":0.1542416663249826},{"$f":"MIN(ROUND(ShadowRed*(1+(RatioRed-1)*I9),0),255)","v":201},{"$f":"MIN(ROUND(ShadowGreen*(1+(RatioGreen-1)*I9),0),255)","v":195},{"$f":"MIN(ROUND(ShadowBlue*(1+(RatioBlue-1)*I9),0),255)","v":151},".","c9","c3","97","7px 7px 1px #c9c397,"]
[null,null,null,null,null,null,{"$f":"bezier!E10","v":8},{"$f":"bezier!F10","v":0.27586206896551724},{"$f":"bezier!Q10","v":0.19147976546803888},{"$f":"MIN(ROUND(ShadowRed*(1+(RatioRed-1)*I10),0),255)","v":203},{"$f":"MIN(ROUND(ShadowGreen*(1+(RatioGreen-1)*I10),0),255)","v":198},{"$f":"MIN(ROUND(ShadowBlue*(1+(RatioBlue-1)*I10),0),255)","v":153},".","cb","c6","99","8px 8px 1px #cbc699,"]
[null,null,null,null,null,null,{"$f":"bezier!E11","v":9},{"$f":"bezier!F11","v":0.31034482758620691},{"$f":"bezier!Q11","v":0.23137480011480588},{"$f":"MIN(ROUND(ShadowRed*(1+(RatioRed-1)*I11),0),255)","v":206},{"$f":"MIN(ROUND(ShadowGreen*(1+(RatioGreen-1)*I11),0),255)","v":200},{"$f":"MIN(ROUND(ShadowBlue*(1+(RatioBlue-1)*I11),0),255)","v":155},".","ce","c8","9b","9px 9px 1px #cec89b,"]
[null,null,null,null,null,null,{"$f":"bezier!E12","v":10},{"$f":"bezier!F12","v":0.34482758620689657},{"$f":"bezier!Q12","v":0.27354545081799175},{"$f":"MIN(ROUND(ShadowRed*(1+(RatioRed-1)*I12),0),255)","v":209},{"$f":"MIN(ROUND(ShadowGreen*(1+(RatioGreen-1)*I12),0),255)","v":203},{"$f":"MIN(ROUND(ShadowBlue*(1+(RatioBlue-1)*I12),0),255)","v":157},".","d1","cb","9d","10px 10px 1px #d1cb9d,"]
[null,null,null,null,null,null,{"$f":"bezier!E13","v":11},{"$f":"bezier!F13","v":0.37931034482758619},{"$f":"bezier!Q13","v":0.31761039813030467},{"$f":"MIN(ROUND(ShadowRed*(1+(RatioRed-1)*I13),0),255)","v":211},{"$f":"MIN(ROUND(ShadowGreen*(1+(RatioGreen-1)*I13),0),255)","v":207},{"$f":"MIN(ROUND(ShadowBlue*(1+(RatioBlue-1)*I13),0),255)","v":159},".","d3","cf","9f","11px 11px 1px #d3cf9f,"]
[null,null,null,null,null,null,{"$f":"bezier!E14","v":12},{"$f":"bezier!F14","v":0.41379310344827586},{"$f":"bezier!Q14","v":0.36318832260445288},{"$f":"MIN(ROUND(ShadowRed*(1+(RatioRed-1)*I14),0),255)","v":214},{"$f":"MIN(ROUND(ShadowGreen*(1+(RatioGreen-1)*I14),0),255)","v":210},{"$f":"MIN(ROUND(ShadowBlue*(1+(RatioBlue-1)*I14),0),255)","v":161},".","d6","d2","a1","12px 12px 1px #d6d2a1,"]
[null,null,null,null,null,null,{"$f":"bezier!E15","v":13},{"$f":"bezier!F15","v":0.44827586206896552},{"$f":"bezier!Q15","v":0.40989790479314447},{"$f":"MIN(ROUND(ShadowRed*(1+(RatioRed-1)*I15),0),255)","v":217},{"$f":"MIN(ROUND(ShadowGreen*(1+(RatioGreen-1)*I15),0),255)","v":213},{"$f":"MIN(ROUND(ShadowBlue*(1+(RatioBlue-1)*I15),0),255)","v":164},".","d9","d5","a4","13px 13px 1px #d9d5a4,"]
[null,null,null,null,null,null,{"$f":"bezier!E16","v":14},{"$f":"bezier!F16","v":0.48275862068965519},{"$f":"bezier!Q16","v":0.45735782524908769},{"$f":"MIN(ROUND(ShadowRed*(1+(RatioRed-1)*I16),0),255)","v":220},{"$f":"MIN(ROUND(ShadowGreen*(1+(RatioGreen-1)*I16),0),255)","v":216},{"$f":"MIN(ROUND(ShadowBlue*(1+(RatioBlue-1)*I16),0),255)","v":166},".","dc","d8","a6","14px 14px 1px #dcd8a6,"]
[null,null,null,null,null,null,{"$f":"bezier!E17","v":15},{"$f":"bezier!F17","v":0.51724137931034486},{"$f":"bezier!Q17","v":0.50518676452499078},{"$f":"MIN(ROUND(ShadowRed*(1+(RatioRed-1)*I17),0),255)","v":223},{"$f":"MIN(ROUND(ShadowGreen*(1+(RatioGreen-1)*I17),0),255)","v":220},{"$f":"MIN(ROUND(ShadowBlue*(1+(RatioBlue-1)*I17),0),255)","v":168},".","df","dc","a8","15px 15px 1px #dfdca8,"]
[null,null,null,null,null,null,{"$f":"bezier!E18","v":16},{"$f":"bezier!F18","v":0.55172413793103448},{"$f":"bezier!Q18","v":0.55300340317356178},{"$f":"MIN(ROUND(ShadowRed*(1+(RatioRed-1)*I18),0),255)","v":226},{"$f":"MIN(ROUND(ShadowGreen*(1+(RatioGreen-1)*I18),0),255)","v":223},{"$f":"MIN(ROUND(ShadowBlue*(1+(RatioBlue-1)*I18),0),255)","v":171},".","e2","df","ab","16px 16px 1px #e2dfab,"]
[null,null,null,null,null,null,{"$f":"bezier!E19","v":17},{"$f":"bezier!F19","v":0.58620689655172409},{"$f":"bezier!Q19","v":0.60042642174750904},{"$f":"MIN(ROUND(ShadowRed*(1+(RatioRed-1)*I19),0),255)","v":229},{"$f":"MIN(ROUND(ShadowGreen*(1+(RatioGreen-1)*I19),0),255)","v":227},{"$f":"MIN(ROUND(ShadowBlue*(1+(RatioBlue-1)*I19),0),255)","v":173},".","e5","e3","ad","17px 17px 1px #e5e3ad,"]
[null,null,null,null,null,null,{"$f":"bezier!E20","v":18},{"$f":"bezier!F20","v":0.62068965517241381},{"$f":"bezier!Q20","v":0.64707450079954076},{"$f":"MIN(ROUND(ShadowRed*(1+(RatioRed-1)*I20),0),255)","v":232},{"$f":"MIN(ROUND(ShadowGreen*(1+(RatioGreen-1)*I20),0),255)","v":230},{"$f":"MIN(ROUND(ShadowBlue*(1+(RatioBlue-1)*I20),0),255)","v":175},".","e8","e6","af","18px 18px 1px #e8e6af,"]
[null,null,null,null,null,null,{"$f":"bezier!E21","v":19},{"$f":"bezier!F21","v":0.65517241379310343},{"$f":"bezier!Q21","v":0.69256632088236503},{"$f":"MIN(ROUND(ShadowRed*(1+(RatioRed-1)*I21),0),255)","v":235},{"$f":"MIN(ROUND(ShadowGreen*(1+(RatioGreen-1)*I21),0),255)","v":233},{"$f":"MIN(ROUND(ShadowBlue*(1+(RatioBlue-1)*I21),0),255)","v":177},".","eb","e9","b1","19px 19px 1px #ebe9b1,"]
[null,null,null,null,null,null,{"$f":"bezier!E22","v":20},{"$f":"bezier!F22","v":0.68965517241379315},{"$f":"bezier!Q22","v":0.73652056254869014},{"$f":"MIN(ROUND(ShadowRed*(1+(RatioRed-1)*I22),0),255)","v":238},{"$f":"MIN(ROUND(ShadowGreen*(1+(RatioGreen-1)*I22),0),255)","v":236},{"$f":"MIN(ROUND(ShadowBlue*(1+(RatioBlue-1)*I22),0),255)","v":179},".","ee","ec","b3","20px 20px 1px #eeecb3,"]
[null,null,null,null,null,null,{"$f":"bezier!E23","v":21},{"$f":"bezier!F23","v":0.72413793103448276},{"$f":"bezier!Q23","v":0.77855590635122385},{"$f":"MIN(ROUND(ShadowRed*(1+(RatioRed-1)*I23),0),255)","v":241},{"$f":"MIN(ROUND(ShadowGreen*(1+(RatioGreen-1)*I23),0),255)","v":239},{"$f":"MIN(ROUND(ShadowBlue*(1+(RatioBlue-1)*I23),0),255)","v":181},".","f1","ef","b5","21px 21px 1px #f1efb5,"]
[null,null,null,null,null,null,{"$f":"bezier!E24","v":22},{"$f":"bezier!F24","v":0.75862068965517238},{"$f":"bezier!Q24","v":0.81829103284267501},{"$f":"MIN(ROUND(ShadowRed*(1+(RatioRed-1)*I24),0),255)","v":243},{"$f":"MIN(ROUND(ShadowGreen*(1+(RatioGreen-1)*I24),0),255)","v":242},{"$f":"MIN(ROUND(ShadowBlue*(1+(RatioBlue-1)*I24),0),255)","v":183},".","f3","f2","b7","22px 22px 1px #f3f2b7,"]
[null,null,null,null,null,null,{"$f":"bezier!E25","v":23},{"$f":"bezier!F25","v":0.7931034482758621},{"$f":"bezier!Q25","v":0.8553446225757515},{"$f":"MIN(ROUND(ShadowRed*(1+(RatioRed-1)*I25),0),255)","v":246},{"$f":"MIN(ROUND(ShadowGreen*(1+(RatioGreen-1)*I25),0),255)","v":245},{"$f":"MIN(ROUND(ShadowBlue*(1+(RatioBlue-1)*I25),0),255)","v":185},".","f6","f5","b9","23px 23px 1px #f6f5b9,"]
[null,null,null,null,null,null,{"$f":"bezier!E26","v":24},{"$f":"bezier!F26","v":0.82758620689655171},{"$f":"bezier!Q26","v":0.88933535610316128},{"$f":"MIN(ROUND(ShadowRed*(1+(RatioRed-1)*I26),0),255)","v":248},{"$f":"MIN(ROUND(ShadowGreen*(1+(RatioGreen-1)*I26),0),255)","v":247},{"$f":"MIN(ROUND(ShadowBlue*(1+(RatioBlue-1)*I26),0),255)","v":187},".","f8","f7","bb","24px 24px 1px #f8f7bb,"]
[null,null,null,null,null,null,{"$f":"bezier!E27","v":25},{"$f":"bezier!F27","v":0.86206896551724133},{"$f":"bezier!Q27","v":0.91988191397761276},{"$f":"MIN(ROUND(ShadowRed*(1+(RatioRed-1)*I27),0),255)","v":250},{"$f":"MIN(ROUND(ShadowGreen*(1+(RatioGreen-1)*I27),0),255)","v":249},{"$f":"MIN(ROUND(ShadowBlue*(1+(RatioBlue-1)*I27),0),255)","v":188},".","fa","f9","bc","25px 25px 1px #faf9bc,"]
[null,null,null,null,null,null,{"$f":"bezier!E28","v":26},{"$f":"bezier!F28","v":0.89655172413793105},{"$f":"bezier!Q28","v":0.94660297675181437},{"$f":"MIN(ROUND(ShadowRed*(1+(RatioRed-1)*I28),0),255)","v":252},{"$f":"MIN(ROUND(ShadowGreen*(1+(RatioGreen-1)*I28),0),255)","v":251},{"$f":"MIN(ROUND(ShadowBlue*(1+(RatioBlue-1)*I28),0),255)","v":189},".","fc","fb","bd","26px 26px 1px #fcfbbd,"]
[null,null,null,null,null,null,{"$f":"bezier!E29","v":27},{"$f":"bezier!F29","v":0.93103448275862066},{"$f":"bezier!Q29","v":0.96911722497847386},{"$f":"MIN(ROUND(ShadowRed*(1+(RatioRed-1)*I29),0),255)","v":253},{"$f":"MIN(ROUND(ShadowGreen*(1+(RatioGreen-1)*I29),0),255)","v":253},{"$f":"MIN(ROUND(ShadowBlue*(1+(RatioBlue-1)*I29),0),255)","v":191},".","fd","fd","bf","27px 27px 1px #fdfdbf,"]
[null,null,null,null,null,null,{"$f":"bezier!E30","v":28},{"$f":"bezier!F30","v":0.96551724137931039},{"$f":"bezier!Q30","v":0.98704333921029974},{"$f":"MIN(ROUND(ShadowRed*(1+(RatioRed-1)*I30),0),255)","v":254},{"$f":"MIN(ROUND(ShadowGreen*(1+(RatioGreen-1)*I30),0),255)","v":254},{"$f":"MIN(ROUND(ShadowBlue*(1+(RatioBlue-1)*I30),0),255)","v":191},".","fe","fe","bf","28px 28px 1px #fefebf,"]
[null,null,null,null,null,null,{"$f":"bezier!E31","v":29},{"$f":"bezier!F31","v":1},{"$f":"bezier!Q31","v":1},{"$f":"MIN(ROUND(ShadowRed*(1+(RatioRed-1)*I31),0),255)","v":255},{"$f":"MIN(ROUND(ShadowGreen*(1+(RatioGreen-1)*I31),0),255)","v":255},{"$f":"MIN(ROUND(ShadowBlue*(1+(RatioBlue-1)*I31),0),255)","v":192},".","ff","ff","c0","29px 29px 1px #ffffc0;"]